BEGIN:VCALENDAR
VERSION:2.0
PRODID:-//Leeds Mind - ECPv6.15.13.1//NONSGML v1.0//EN
CALSCALE:GREGORIAN
METHOD:PUBLISH
X-ORIGINAL-URL:http://www.leedsmind.org.uk
X-WR-CALDESC:Events for Leeds Mind
REFRESH-INTERVAL;VALUE=DURATION:PT1H
X-Robots-Tag:noindex
X-PUBLISHED-TTL:PT1H
BEGIN:VTIMEZONE
TZID:Europe/London
BEGIN:DAYLIGHT
TZOFFSETFROM:+0000
TZOFFSETTO:+0100
TZNAME:BST
DTSTART:20250330T010000
END:DAYLIGHT
BEGIN:STANDARD
TZOFFSETFROM:+0100
TZOFFSETTO:+0000
TZNAME:GMT
DTSTART:20251026T010000
END:STANDARD
BEGIN:DAYLIGHT
TZOFFSETFROM:+0000
TZOFFSETTO:+0100
TZNAME:BST
DTSTART:20260329T010000
END:DAYLIGHT
BEGIN:STANDARD
TZOFFSETFROM:+0100
TZOFFSETTO:+0000
TZNAME:GMT
DTSTART:20261025T010000
END:STANDARD
BEGIN:DAYLIGHT
TZOFFSETFROM:+0000
TZOFFSETTO:+0100
TZNAME:BST
DTSTART:20270328T010000
END:DAYLIGHT
BEGIN:STANDARD
TZOFFSETFROM:+0100
TZOFFSETTO:+0000
TZNAME:GMT
DTSTART:20271031T010000
END:STANDARD
END:VTIMEZONE
BEGIN:VEVENT
DTSTART;TZID=Europe/London:20260201T000000
DTEND;TZID=Europe/London:20261231T235900
DTSTAMP:20260422T135335
CREATED:20250326T114137Z
LAST-MODIFIED:20250326T114251Z
UID:18136-1769904000-1798761540@www.leedsmind.org.uk
SUMMARY:Paws for a Cause - Dog Walk Challenge
DESCRIPTION:Take on our Dog Walk Challenge with your furry friend and raise money for mental health – while doing something good for yours! \nEntry: Free\nWhen: You choose when \nDistance: Set your own distance\nHow to get involved: email our friendly team at fundraising@leedsmind.org.uk. We’ll send you a downloadable fundraising pack with ideas for walks in the Leeds area\, guidance on fundraising\, and a handy challenge tracker so you can log your progress. \nRaise £100 and receive a free Leeds Mind dog bandana!\nWould you like your dog’s bandana early? Ask us when you register and receive 20% off when you buy your bandana online! \nChallenge Details\nWe’re asking pet parents to challenge themselves to go the distance. Choose one of the tiers of the dog walk challenge\, whichever is best suited to you and your pooch\, and get out and explore Leeds. The tier you choose will depend on your dog’s size and age\, as well as what you are comfortable with. \nWhether you stroll through local parks\, hike scenic trails\, or enjoy neighbourhood walks\, every step you take will help raise vital funds whilst getting you and your best friend outdoors. \n1 –  30 mile challenge \nThis tier is the perfect entry point at a mile a day \n2 – 50 mile challenge  \n50 miles over the course of 31 days works out as just over 1.5  miles a day\, or around 30-50 minutes of walking. \n3 – 100 mile challenge \nIf you and your dog are up for the challenge\, why not take on the 100-mile target? A little over 3 miles a day\, this target is a great chance for you to put yourself and your pooch to the test and see some amazing new walking spots on your travels \n4 – Set your own challenge! \nWhether you want to go even further with a more daring target or want to set a daily challenge that suits your capabilities and schedule\, this fundraising challenge is flexible so you can do it how you like. \nHere are a few ideas of challenges you could tackle! \n\n\n\nRack up a full marathon distance in one month (26.2 miles)\nA lap of the garden every day with your dog\nOne new walk or visit one new beauty spot every week\n\n\n\n 
URL:http://www.leedsmind.org.uk/event/paws-for-a-cause-copy/
CATEGORIES:Fundraising
ATTACH;FMTTYPE=image/jpeg:http://www.leedsmind.org.uk/wp-content/uploads/2025/01/casper.jpg
END:VEVENT
BEGIN:VEVENT
DTSTART;VALUE=DATE:20260912
DTEND;VALUE=DATE:20260913
DTSTAMP:20260422T135335
CREATED:20251218T160248Z
LAST-MODIFIED:20260105T114208Z
UID:19622-1789171200-1789257599@www.leedsmind.org.uk
SUMMARY:The Great Yorkshire Abseil 2026
DESCRIPTION:Feel the fear and do it anyway!\n\nThis September\, we’re challenging you to zipline between the iconic 35ft high Ilkley Moor boulders\, and then embark on a 50ft abseil down ‘the Cow’. \n\nOur expert instructors will be there to guide you through this challenge. You don’t need any specialist equipment or previous experience to take part\, just some sensible outdoor clothing and footwear\, and a little bit of courage! We will take care of the rest. \nThe registration cost is just £20 for adults or £10 for kids and your fundraising target is £150! \n\n\n\n\n\n\n\nWho can take part?\n\nPerfect team-building event for outside the office\nGet your mates together or take on the challenge solo\nOpen to ages 6 and over\, parents or guardians must accompany those under the age of 18\nPlease note there is a weight limit of 18 stone due to the harness restrictions\n\nWhat’s included?\n\nDrinks and refreshments on the day\nA Leeds Mind t-shirt\nFundraising certificate for completing the challenge\nHelp and support through your fundraising journey from one of our expert fundraisers\n\nScroll down to buy your tickets now! \nAbseil 2026 – Terms and Conditions
URL:http://www.leedsmind.org.uk/event/the-great-yorkshire-abseil-2026-2/
CATEGORIES:Family Friendly,Fundraising
ATTACH;FMTTYPE=image/jpeg:http://www.leedsmind.org.uk/wp-content/uploads/2025/12/GYA_banner_justgiving.jpg
END:VEVENT
BEGIN:VEVENT
DTSTART;VALUE=DATE:20260913
DTEND;VALUE=DATE:20260914
DTSTAMP:20260422T135335
CREATED:20241217T124030Z
LAST-MODIFIED:20260216T103414Z
UID:17401-1789257600-1789343999@www.leedsmind.org.uk
SUMMARY:Great North Run 2026
DESCRIPTION:One of the most iconic runs in the country\, run from the city to the sea – and maybe finish off with some Fish and Chips in South Shields. \nLeeds Mind are proud to have secured some charity places this year. Will you run for us? Get in fast as places are very limited! \nCharity Places are £60 and with a sponsorship target of £350. \nIn return for joining Team Leeds Mind you will receive; \n\nYour place in the race!\nComplimentary running top\nFundraising support before\, during and after the race\nThe wonderful feeling that you are helping to support people in Leeds with mental health difficulties (priceless!)\n\nLeeds Mind Great North Run 2026 – Terms and Conditions \n  \nScroll down to get your place today! \n   
URL:http://www.leedsmind.org.uk/event/great-north-run-2026/
LOCATION:Newcastle
CATEGORIES:Fundraising,Running
ATTACH;FMTTYPE=image/png:http://www.leedsmind.org.uk/wp-content/uploads/2024/12/gnr1.png
END:VEVENT
BEGIN:VEVENT
DTSTART;VALUE=DATE:20261011
DTEND;VALUE=DATE:20261012
DTSTAMP:20260422T135335
CREATED:20260107T140730Z
LAST-MODIFIED:20260216T103540Z
UID:19704-1791676800-1791763199@www.leedsmind.org.uk
SUMMARY:The Yorkshire Coast Run 2026 - 10K
DESCRIPTION:[vc_row type=”in_container” full_screen_row_position=”middle” column_margin=”default” column_direction=”default” column_direction_tablet=”default” column_direction_phone=”default” scene_position=”center” text_color=”dark” text_align=”left” row_border_radius=”none” row_border_radius_applies=”bg” row_position_desktop=”default” row_position_tablet=”inherit” row_position_phone=”inherit” overflow=”visible” overlay_strength=”0.3″ gradient_direction=”left_to_right” shape_divider_position=”bottom” bg_image_animation=”none”][vc_column column_padding=”no-extra-padding” column_padding_tablet=”inherit” column_padding_phone=”inherit” column_padding_position=”all” flex_gap_desktop=”10px” column_element_direction_desktop=”default” column_element_spacing=”default” desktop_text_alignment=”default” tablet_text_alignment=”default” phone_text_alignment=”default” background_color_opacity=”1″ background_hover_color_opacity=”1″ column_backdrop_filter=”none” column_shadow=”none” column_border_radius=”none” column_link_target=”_self” column_position=”default” gradient_direction=”left_to_right” overlay_strength=”0.3″ width=”1/1″ tablet_width_inherit=”default” animation_type=”default” bg_image_animation=”none” border_type=”simple” column_border_width=”none” column_border_style=”solid”][vc_column_text css=”” text_direction=”default”]\nPrepare for an unforgettable adventure! Starting and finishing at the iconic Scarborough SPA\, runners will take in breathtaking coastal views as they dash along South Bay\, sweep past the bustling harbour\, and tackle the headland. The route then winds through the charming North Bay\, passes the lively Open Air Theatre\, and returns to the SPA for a triumphant finish. \nMore than just a run\, it’s a scenic journey you won’t want to miss! \nA Leeds Mind Charity Coastal Run 10k place costs £20 with a sponsorship target of £150. \nIn return for joining Team Leeds Mind you will receive; \n\nYour place in the race!\nComplimentary Leeds Mind running top\nFundraising support before\, during and after the race\nThe wonderful feeling that you are helping to support people in Leeds with mental health difficulties (priceless!)\n\nScroll down to buy your place today!  \n  \n[/vc_column_text][/vc_column][/vc_row]
URL:http://www.leedsmind.org.uk/event/the-yorkshire-coast-run-2026-10k/
LOCATION:scarborough spa\, South Bay\, Scarborough\, YO11 2HD\, United Kingdom
CATEGORIES:Fundraising,Running
ATTACH;FMTTYPE=image/jpeg:http://www.leedsmind.org.uk/wp-content/uploads/2025/01/image.jpg
END:VEVENT
BEGIN:VEVENT
DTSTART;TZID=Europe/London:20261104T170000
DTEND;TZID=Europe/London:20261104T200000
DTSTAMP:20260422T135335
CREATED:20260107T131551Z
LAST-MODIFIED:20260107T144426Z
UID:19682-1793811600-1793822400@www.leedsmind.org.uk
SUMMARY:Leeds Mind Firewalk 2026
DESCRIPTION:[vc_row type=”in_container” full_screen_row_position=”middle” column_margin=”default” column_direction=”default” column_direction_tablet=”default” column_direction_phone=”default” scene_position=”center” text_color=”dark” text_align=”left” row_border_radius=”none” row_border_radius_applies=”bg” row_position_desktop=”default” row_position_tablet=”inherit” row_position_phone=”inherit” overflow=”visible” overlay_strength=”0.3″ gradient_direction=”left_to_right” shape_divider_position=”bottom” bg_image_animation=”none”][vc_column column_padding=”no-extra-padding” column_padding_tablet=”inherit” column_padding_phone=”inherit” column_padding_position=”all” flex_gap_desktop=”10px” column_element_direction_desktop=”default” column_element_spacing=”default” desktop_text_alignment=”default” tablet_text_alignment=”default” phone_text_alignment=”default” background_color_opacity=”1″ background_hover_color_opacity=”1″ column_backdrop_filter=”none” column_shadow=”none” column_border_radius=”none” column_link_target=”_self” column_position=”default” gradient_direction=”left_to_right” overlay_strength=”0.3″ width=”1/1″ tablet_width_inherit=”default” animation_type=”default” bg_image_animation=”none” border_type=”simple” column_border_width=”none” column_border_style=”solid”][vc_column_text css=”” text_direction=”default”]\nLast year’s Firewalk was sizzling… so we’re turning up the heat for 2026! \nStep into Victoria Gardens\, outside Leeds Art Gallery\, and face the ultimate test of courage: walking barefoot over glowing\, red-hot embers! \nIt’s daring. It’s thrilling. It’s the kind of experience that makes your heart race and your friends jealous. Think you’ve got what it takes to step up? \nArrive from 5:30pm to get “fired up”. You’ll be guided by one of the UK’s top firewalk companies\, who’ll help ease those butterflies and get you ready for your moment in the spotlight. Then\, one by one\, participants will take on the firewalk\, it’s all about mind over matter! \nThis is more than a physical challenge\,  it’s a mental adventure. Perfect for anyone wanting to prove resilience\, bravery\, and maybe show off a bit! \nDetails: \n\n\nOpen to ages 12+ (under 16s need parent/guardian permission) \n\n\nFirewalk place: £20\, with a sponsorship target of £150 \n\n\nWhat you’ll get for stepping into the heat: \n\n\nTraining from UK Firewalk experts \n\n\nCertificate of completion \n\n\nLeeds Mind t-shirt \n\n\nSupport throughout your fundraising journey \n\n\nFirewalk 2026 – Terms and Conditions \nClaim your place below  \n Listen to Bev share her fire-walking story and get inspired to take the leap yourself! \nhttp://www.leedsmind.org.uk/wp-content/uploads/2022/11/VID-20221003-WA0000.mp4\n  [/vc_column_text][/vc_column][/vc_row]
URL:http://www.leedsmind.org.uk/event/leeds-mind-firewalk-2026/
LOCATION:victoria gardens\, Victoria Gardens\, outside Leeds Art Gallery
CATEGORIES:Fundraising
ATTACH;FMTTYPE=image/jpeg:http://www.leedsmind.org.uk/wp-content/uploads/2026/01/lucy.jpg
END:VEVENT
BEGIN:VEVENT
DTSTART;VALUE=DATE:20261129
DTEND;VALUE=DATE:20261130
DTSTAMP:20260422T135335
CREATED:20260107T134026Z
LAST-MODIFIED:20260107T140619Z
UID:19696-1795910400-1795996799@www.leedsmind.org.uk
SUMMARY:Abbey Dash 2026
DESCRIPTION:[vc_row type=”in_container” full_screen_row_position=”middle” column_margin=”default” column_direction=”default” column_direction_tablet=”default” column_direction_phone=”default” scene_position=”center” text_color=”dark” text_align=”left” row_border_radius=”none” row_border_radius_applies=”bg” row_position_desktop=”default” row_position_tablet=”inherit” row_position_phone=”inherit” overflow=”visible” overlay_strength=”0.3″ gradient_direction=”left_to_right” shape_divider_position=”bottom” bg_image_animation=”none”][vc_column column_padding=”no-extra-padding” column_padding_tablet=”inherit” column_padding_phone=”inherit” column_padding_position=”all” flex_gap_desktop=”10px” column_element_direction_desktop=”default” column_element_spacing=”default” desktop_text_alignment=”default” tablet_text_alignment=”default” phone_text_alignment=”default” background_color_opacity=”1″ background_hover_color_opacity=”1″ column_backdrop_filter=”none” column_shadow=”none” column_border_radius=”none” column_link_target=”_self” column_position=”default” gradient_direction=”left_to_right” overlay_strength=”0.3″ width=”1/1″ tablet_width_inherit=”default” animation_type=”default” bg_image_animation=”none” border_type=”simple” column_border_width=”none” column_border_style=”solid”][vc_column_text css=”” text_direction=”default”]\nFrom Wellington Place to the breath-taking Kirkstall Abbey and back\, The Abbey Dash is Leeds’ iconic 10K – almost 40 years in the making! \nWhether you’re running for fun\, ticking off a fitness goal\, or chasing that elusive PB\, why not do it for a cause close to home? 💙 \nGrab a Leeds Mind charity place for just £30\, aim to raise £150 in sponsorship\, and help keep our vital mental health services running. Get your friends\, family\, and colleagues on board to cheer you (and sponsor you!) along the way \nIn return for joining Team Leeds Mind you will receive; \n\nYour place in the race!\nComplimentary running top\nFundraising support before\, during and after the race\nThe wonderful feeling that you are helping to support people in Leeds with mental health difficulties (priceless!)\n\nScroll down to buy your place today!  \nAbbey Dash 2026 – Terms and Conditions \n [/vc_column_text][/vc_column][/vc_row]
URL:http://www.leedsmind.org.uk/event/abbey-dash-2026/
LOCATION:Leeds City Centre\, United Kingdom
CATEGORIES:Fundraising,Running
ATTACH;FMTTYPE=image/jpeg:http://www.leedsmind.org.uk/wp-content/uploads/2025/06/download.jpg
END:VEVENT
END:VCALENDAR