BEGIN:VCALENDAR
VERSION:2.0
PRODID:-//Leeds Mind - ECPv6.15.13.1//NONSGML v1.0//EN
CALSCALE:GREGORIAN
METHOD:PUBLISH
X-WR-CALNAME:Leeds Mind
X-ORIGINAL-URL:http://www.leedsmind.org.uk
X-WR-CALDESC:Events for Leeds Mind
REFRESH-INTERVAL;VALUE=DURATION:PT1H
X-Robots-Tag:noindex
X-PUBLISHED-TTL:PT1H
BEGIN:VTIMEZONE
TZID:Europe/London
BEGIN:DAYLIGHT
TZOFFSETFROM:+0000
TZOFFSETTO:+0100
TZNAME:BST
DTSTART:20250330T010000
END:DAYLIGHT
BEGIN:STANDARD
TZOFFSETFROM:+0100
TZOFFSETTO:+0000
TZNAME:GMT
DTSTART:20251026T010000
END:STANDARD
BEGIN:DAYLIGHT
TZOFFSETFROM:+0000
TZOFFSETTO:+0100
TZNAME:BST
DTSTART:20260329T010000
END:DAYLIGHT
BEGIN:STANDARD
TZOFFSETFROM:+0100
TZOFFSETTO:+0000
TZNAME:GMT
DTSTART:20261025T010000
END:STANDARD
BEGIN:DAYLIGHT
TZOFFSETFROM:+0000
TZOFFSETTO:+0100
TZNAME:BST
DTSTART:20270328T010000
END:DAYLIGHT
BEGIN:STANDARD
TZOFFSETFROM:+0100
TZOFFSETTO:+0000
TZNAME:GMT
DTSTART:20271031T010000
END:STANDARD
END:VTIMEZONE
BEGIN:VEVENT
DTSTART;VALUE=DATE:20260426
DTEND;VALUE=DATE:20260427
DTSTAMP:20260420T084419
CREATED:20250508T123326Z
LAST-MODIFIED:20250619T151034Z
UID:18347-1777161600-1777247999@www.leedsmind.org.uk
SUMMARY:London Marathon 2026
DESCRIPTION:We’re absolutely delighted to announce that we’ve been allocated two places in the 2026 London Marathon! \nThis is one of the most iconic races in the world\, and we’re thrilled to offer this incredible opportunity to two amazing supporters. Applications for these charity places are now open\, so if you’ve ever dreamed of taking on the London Marathon while raising vital funds for a great cause\, now’s your chance!  We can’t wait to hear from you! \nHow to register for a Leeds Mind charity place \nWe ask everyone interested in a Leeds Mind charity place to fill out an application questionnaire.  Tell us as much as you can about why you’d like to raise money for us\, why you support Leeds Mind’s work and how you plan to fundraise a minimum of £2\,000 or more.  Whether you’re an experienced runner\, or embarking on your first marathon\, we’d love to hear from you \nThe deadline for applications is 13th July and successful applicants will be notified no later than 17th July 2025 \nFill out the application questionnaire. \nWho can apply? \nAnyone who is at least 18 years old on race day can apply for the London Marathon \nSuccessful Applicants  \nIf you are successful in securing a charity place you will be asked to pay a non-refundable registration fee of £100 and pledge to raise a minimum of £2000 in sponsorship. You will need to cover your own travel and accommodation costs. \nIn return for joining Team Leeds Mind and taking on this incredible challenge you will receive; \n\n Complimentary running top\nFundraising support before\, during and after the race\nThe wonderful feeling that you are helping to support people in Leeds with mental health difficulties (priceless!)\n\nEvent details: \nWhen: Sunday 26th April 2026  \nRegistration fee: £100  \nFundraising Deadline You will have a 50% (£1\,000) fundraising deadline of 26 February (2 months before the event). We then ask that the full £2\,000 is with us by 26 May (1 month after the event). \n 
URL:http://www.leedsmind.org.uk/event/london-marathon-2026/
LOCATION:London
CATEGORIES:Fundraising,Running
ATTACH;FMTTYPE=image/jpeg:http://www.leedsmind.org.uk/wp-content/uploads/2025/05/PXL_20250427_092914686-1.jpg
END:VEVENT
END:VCALENDAR