BEGIN:VCALENDAR
VERSION:2.0
PRODID:-//Leeds Mind - ECPv6.15.13.1//NONSGML v1.0//EN
CALSCALE:GREGORIAN
METHOD:PUBLISH
X-ORIGINAL-URL:https://www.leedsmind.org.uk
X-WR-CALDESC:Events for Leeds Mind
REFRESH-INTERVAL;VALUE=DURATION:PT1H
X-Robots-Tag:noindex
X-PUBLISHED-TTL:PT1H
BEGIN:VTIMEZONE
TZID:Europe/London
BEGIN:DAYLIGHT
TZOFFSETFROM:+0000
TZOFFSETTO:+0100
TZNAME:BST
DTSTART:20210328T010000
END:DAYLIGHT
BEGIN:STANDARD
TZOFFSETFROM:+0100
TZOFFSETTO:+0000
TZNAME:GMT
DTSTART:20211031T010000
END:STANDARD
BEGIN:DAYLIGHT
TZOFFSETFROM:+0000
TZOFFSETTO:+0100
TZNAME:BST
DTSTART:20220327T010000
END:DAYLIGHT
BEGIN:STANDARD
TZOFFSETFROM:+0100
TZOFFSETTO:+0000
TZNAME:GMT
DTSTART:20221030T010000
END:STANDARD
BEGIN:DAYLIGHT
TZOFFSETFROM:+0000
TZOFFSETTO:+0100
TZNAME:BST
DTSTART:20230326T010000
END:DAYLIGHT
BEGIN:STANDARD
TZOFFSETFROM:+0100
TZOFFSETTO:+0000
TZNAME:GMT
DTSTART:20231029T010000
END:STANDARD
BEGIN:DAYLIGHT
TZOFFSETFROM:+0000
TZOFFSETTO:+0100
TZNAME:BST
DTSTART:20240331T010000
END:DAYLIGHT
BEGIN:STANDARD
TZOFFSETFROM:+0100
TZOFFSETTO:+0000
TZNAME:GMT
DTSTART:20241027T010000
END:STANDARD
BEGIN:DAYLIGHT
TZOFFSETFROM:+0000
TZOFFSETTO:+0100
TZNAME:BST
DTSTART:20250330T010000
END:DAYLIGHT
BEGIN:STANDARD
TZOFFSETFROM:+0100
TZOFFSETTO:+0000
TZNAME:GMT
DTSTART:20251026T010000
END:STANDARD
BEGIN:DAYLIGHT
TZOFFSETFROM:+0000
TZOFFSETTO:+0100
TZNAME:BST
DTSTART:20260329T010000
END:DAYLIGHT
BEGIN:STANDARD
TZOFFSETFROM:+0100
TZOFFSETTO:+0000
TZNAME:GMT
DTSTART:20261025T010000
END:STANDARD
END:VTIMEZONE
BEGIN:VEVENT
DTSTART;VALUE=DATE:20251130
DTEND;VALUE=DATE:20251201
DTSTAMP:20260423T132454
CREATED:20250625T112823Z
LAST-MODIFIED:20251106T145818Z
UID:18647-1764460800-1764547199@www.leedsmind.org.uk
SUMMARY:Abbey Dash 2025
DESCRIPTION:From Wellington Place up to the stunning Kirkstall Abbey and back again\, The Abbey Dash is a historic Leeds 10K race that has been ‘running’ (pun intended) for nearly 40 years! \nSo whether you’re taking it on for fun\, as part of a fitness goal or to smash that elusive PB\, why not raise money for local mental heath services while you do?💙 \nA Leeds Mind Charity place is just £25 with a sponsorship target of £150 to help keep our vital services going – ask your friends\, family and colleagues to sponsor you! \nIn return for joining Team Leeds Mind you will receive; \n\nYour place in the race!\nComplimentary running top\nFundraising support before\, during and after the race\nThe wonderful feeling that you are helping to support people in Leeds with mental health difficulties (priceless!)\n\nScroll down to buy your place today! Abbey Dash 2025 – Terms and Conditions \nDonate to support the runners or set up your own Just Giving page using this link: https://www.justgiving.com/campaign/abbeydash25lm \n 
URL:https://www.leedsmind.org.uk/event/abbey-dash-2025/
LOCATION:Leeds City Centre\, United Kingdom
CATEGORIES:Fundraising,Running
ATTACH;FMTTYPE=image/jpeg:https://www.leedsmind.org.uk/wp-content/uploads/2025/06/download.jpg
END:VEVENT
BEGIN:VEVENT
DTSTART;VALUE=DATE:20251019
DTEND;VALUE=DATE:20251020
DTSTAMP:20260423T132454
CREATED:20250128T135006Z
LAST-MODIFIED:20251009T120438Z
UID:17655-1760832000-1760918399@www.leedsmind.org.uk
SUMMARY:NEW EVENT - The Yorkshire Coast Run 2025 - 5K
DESCRIPTION:[vc_row type=”in_container” full_screen_row_position=”middle” column_margin=”default” column_direction=”default” column_direction_tablet=”default” column_direction_phone=”default” scene_position=”center” text_color=”dark” text_align=”left” row_border_radius=”none” row_border_radius_applies=”bg” overflow=”visible” overlay_strength=”0.3″ gradient_direction=”left_to_right” shape_divider_position=”bottom” bg_image_animation=”none”][vc_column column_padding=”no-extra-padding” column_padding_tablet=”inherit” column_padding_phone=”inherit” column_padding_position=”all” column_element_direction_desktop=”default” column_element_spacing=”default” desktop_text_alignment=”default” tablet_text_alignment=”default” phone_text_alignment=”default” background_color_opacity=”1″ background_hover_color_opacity=”1″ column_backdrop_filter=”none” column_shadow=”none” column_border_radius=”none” column_link_target=”_self” column_position=”default” gradient_direction=”left_to_right” overlay_strength=”0.3″ width=”1/1″ tablet_width_inherit=”default” animation_type=”default” bg_image_animation=”none” border_type=”simple” column_border_width=”none” column_border_style=”solid”][vc_column_text css=”” text_direction=”default”]Get ready for an exhilarating adventure! Starting and finishing at the iconic Scarborough SPA\, runners will soak in the stunning coastal views as they race around South Bay\, breeze past the bustling harbour\, and navigate the headland. The journey continues into the picturesque North Bay\, through the vibrant Open Air Theatre\, and back to the SPA for a triumphant finish. \nThis is more than a run—it’s a scenic experience you won’t want to miss! \nA Leeds Mind Charity Coastal Run 5k place costs £10 with a sponsorship target of £100. We are now offering our last remaining places for free! \nPlease note we have now sold out of 10k places. \nIn return for joining Team Leeds Mind you will receive; \n\nYour place in the race!\nComplimentary Leeds Mind running top\nFundraising support before\, during and after the race\nThe wonderful feeling that you are helping to support people in Leeds with mental health difficulties (priceless!)\n\nScroll down to buy your place today!  \n  \n[/vc_column_text][/vc_column][/vc_row]
URL:https://www.leedsmind.org.uk/event/yorkshirecoast10k5k2025/
LOCATION:scarborough spa\, South Bay\, Scarborough\, YO11 2HD\, United Kingdom
CATEGORIES:Fundraising,Running
ATTACH;FMTTYPE=image/jpeg:https://www.leedsmind.org.uk/wp-content/uploads/2025/01/image.jpg
END:VEVENT
BEGIN:VEVENT
DTSTART;VALUE=DATE:20250615
DTEND;VALUE=DATE:20250616
DTSTAMP:20260423T132454
CREATED:20240815T140517Z
LAST-MODIFIED:20250214T113438Z
UID:16517-1749945600-1750031999@www.leedsmind.org.uk
SUMMARY:Leeds 10K 2025
DESCRIPTION:Pound the streets of Leeds\, running\, jogging\, wheeling or walking. Do it for fun\, as part of a fitness goal or to smash that elusive PB – all while raising money for mental health services in your community! Run for Team Leeds Mind under our united banner of inclusivity 💙 \nA Leeds Mind Charity place is just £25 with a sponsorship target of £150 to help keep our vital services going – ask your friends\, family and colleagues to sponsor you! \nIn return for joining Team Leeds Mind you will receive; \n\nYour place in the race!\nComplimentary running top\nFundraising support before\, during and after the race\nThe wonderful feeling that you are helping to support people in Leeds with mental health difficulties (priceless!)\n\nScroll down to buy your place today! Leeds 10k 2025 – Terms and Conditions \n 
URL:https://www.leedsmind.org.uk/event/leeds-10k-2025/
LOCATION:Leeds City Centre\, United Kingdom
CATEGORIES:Fundraising,Running
ATTACH;FMTTYPE=image/png:https://www.leedsmind.org.uk/wp-content/uploads/2023/07/Leeds-10K.png
END:VEVENT
BEGIN:VEVENT
DTSTART;TZID=Europe/London:20250511T090000
DTEND;TZID=Europe/London:20250511T170000
DTSTAMP:20260423T132454
CREATED:20240731T151855Z
LAST-MODIFIED:20250318T162720Z
UID:16420-1746954000-1746982800@www.leedsmind.org.uk
SUMMARY:Rob Burrow Leeds Marathon 2025
DESCRIPTION:Be a part of the biggest running event in Leeds and run through the city’s most beautiful countryside and suburbs\, all whilst raising money for your local mental health charity. \nThis is an event for everyone\, so no matter what your ability level\, you can feel comfortable to know that you’ll be welcome to join us for this wonderful event. \nEntry Fee: £45\nSponsorship Target: £350 \nRunners – In return for joining Team Leeds Mind you will be rewarded with: \n\nComplimentary running top\nFundraising support before\, during and after the race\nThe wonderful feeling that you are helping to support people in Leeds with mental health difficulties (priceless)\n\nBuy tickets below 🙂 \nLeeds Marathon 2025 – Terms and Conditions \n \nDonate here – https://www.justgiving.com/campaign/leedsmindleedsmarathon25
URL:https://www.leedsmind.org.uk/event/rob-burrow-leeds-marathon-2025/
LOCATION:AMT Headingley Stadium
CATEGORIES:Fundraising,Running
ATTACH;FMTTYPE=image/png:https://www.leedsmind.org.uk/wp-content/uploads/2022/07/ROB-BURROW-LEEDS-MARATHON-Logo-01.png
END:VEVENT
BEGIN:VEVENT
DTSTART;VALUE=DATE:20250511
DTEND;VALUE=DATE:20250512
DTSTAMP:20260423T132454
CREATED:20240815T142325Z
LAST-MODIFIED:20250416T094235Z
UID:16527-1746921600-1747007999@www.leedsmind.org.uk
SUMMARY:Leeds Half Marathon 2025
DESCRIPTION:Complete Yorkshire’s biggest and loudest half marathon and get cheered on every step of the way! \nA Leeds Mind Charity place is just £30 with a suggested sponsorship target of £250 – ask your friends\, family and colleagues to sponsor your amazing achievement and help us to keep our vital services going for the community! \nIn return for joining Team Leeds Mind you will receive; \n\nYour place in the race!\nComplimentary running top\nFundraising support before\, during and after the race\nThe wonderful feeling that you are helping to support people in Leeds with mental health difficulties (priceless!)\n\nScroll down to buy your place today! Leeds Half Marathon 2025 – Terms and Conditions \n  \n 
URL:https://www.leedsmind.org.uk/event/leeds-half-marathon-2025/
LOCATION:Leeds City Centre\, United Kingdom
CATEGORIES:Fundraising,Running
ATTACH;FMTTYPE=image/png:https://www.leedsmind.org.uk/wp-content/uploads/2023/07/Leeds-Half-Marathon.png
END:VEVENT
BEGIN:VEVENT
DTSTART;VALUE=DATE:20240908
DTEND;VALUE=DATE:20240909
DTSTAMP:20260423T132454
CREATED:20230727T131350Z
LAST-MODIFIED:20231208T143035Z
UID:13585-1725753600-1725839999@www.leedsmind.org.uk
SUMMARY:Great North Run 2024
DESCRIPTION:One of the most iconic runs in the country\, run from the city to the sea – and maybe finish off with some Fish and Chips in South Shields. \nLeeds Mind are proud to have secured some charity places this year. Will you run for us? Get in fast as places are very limited! \nCharity Places are £60 and with a suggested a sponsorship target of £350. \nIn return for joining Team Leeds Mind you will receive; \n\nYour place in the race!\nComplimentary running top\nFundraising support before\, during and after the race\nThe wonderful feeling that you are helping to support people in Leeds with mental health difficulties (priceless!)\n\nScroll down to get your place today! Leeds Mind Great North Run 2024 – Terms and Conditions \nDonate to support the runners here – https://www.justgiving.com/campaign/leedsmindgnr24 \n   
URL:https://www.leedsmind.org.uk/event/great-north-run-2024/
LOCATION:Newcastle
CATEGORIES:Fundraising,Running
ATTACH;FMTTYPE=image/png:https://www.leedsmind.org.uk/wp-content/uploads/2022/04/Great-North-Run-blue.png
END:VEVENT
BEGIN:VEVENT
DTSTART;VALUE=DATE:20240623
DTEND;VALUE=DATE:20240624
DTSTAMP:20260423T132454
CREATED:20230727T124944Z
LAST-MODIFIED:20240613T171205Z
UID:13576-1719100800-1719187199@www.leedsmind.org.uk
SUMMARY:Leeds 10K 2024
DESCRIPTION:Pound the streets of Leeds\, running\, jogging\, wheeling or walking. Do it for fun\, as part of a fitness goal or to smash that elusive PB – all while raising money for mental health services in your community! Run for Team Leeds Mind under our united banner of inclusivity 💙 \nA Leeds Mind Charity place is just £25 with a suggested sponsorship target of £150 to help keep our vital services going – ask your friends\, family and colleagues to sponsor you! \nIn return for joining Team Leeds Mind you will receive; \n\nYour place in the race!\nComplimentary running top\nFundraising support before\, during and after the race\nThe wonderful feeling that you are helping to support people in Leeds with mental health difficulties (priceless!)\n\nScroll down to buy your place today! Leeds 10k 2024 – Terms and Conditions \nYou can also register to be a Leeds Mind Volunteer Route Marshall by emailing fundraising@leedsmind.org.uk\, helping to cheer on the runners and keep the route safe! \nYou can donate to this cause via https://www.justgiving.com/campaign/leeds10k2024
URL:https://www.leedsmind.org.uk/event/leeds-10k-2024/
LOCATION:Leeds City Centre\, United Kingdom
CATEGORIES:Fundraising,Running
ATTACH;FMTTYPE=image/png:https://www.leedsmind.org.uk/wp-content/uploads/2023/07/Leeds-10K.png
END:VEVENT
BEGIN:VEVENT
DTSTART;VALUE=DATE:20240607
DTEND;VALUE=DATE:20240610
DTSTAMP:20260423T132454
CREATED:20230727T135343Z
LAST-MODIFIED:20240523T123648Z
UID:13589-1717718400-1717977599@www.leedsmind.org.uk
SUMMARY:Great North Swim 2024
DESCRIPTION:🏊‍♂️ FREE ENTRY OPPORTUNITY! 🏊‍♀️ \nJoin us at the Great North Swim – Windermere from 7th to 9th June 2024! \nWe’re thrilled to offer 5 FREE places for the 1-mile swim on Lake Windermere. If you’d love to enjoy the stunning scenery while raising funds for your local mental health charity\, please get in touch. \nTo take advantage of this offer\, you need to register by 4th June 2024 and  we are asking for a fundraising target of £50. \nThis event is suitable for swimmers of all abilities. The 1-mile distance is equivalent to 64 lengths of a 25-meter pool\, with an average completion time of 40 minutes. Participants must be 16 years or older. \nScroll down to get your place today! Leeds Mind North Swim 2024 – Terms and Conditions \nDonate to support the swimmers here – https://www.justgiving.com/campaign/leedsmindgns24
URL:https://www.leedsmind.org.uk/event/great-north-swim-2024/
LOCATION:Lake Windermere\, Lake Windermere
CATEGORIES:Fundraising,Running
ATTACH;FMTTYPE=image/jpeg:https://www.leedsmind.org.uk/wp-content/uploads/2022/11/1655244761104.jpg
END:VEVENT
BEGIN:VEVENT
DTSTART;VALUE=DATE:20240512
DTEND;VALUE=DATE:20240513
DTSTAMP:20260423T132454
CREATED:20230727T142855Z
LAST-MODIFIED:20240612T114239Z
UID:13598-1715472000-1715558399@www.leedsmind.org.uk
SUMMARY:Leeds Half Marathon 2024
DESCRIPTION:Complete Yorkshire’s biggest and loudest half marathon and get cheered on every step of the way! \nA Leeds Mind Charity place is just £30 with a suggested sponsorship target of £250 – ask your friends\, family and colleagues to sponsor your amazing achievement and help us to keep our vital services going for the community! \nIn return for joining Team Leeds Mind you will receive; \n\nYour place in the race!\nComplimentary running top\nFundraising support before\, during and after the race\nThe wonderful feeling that you are helping to support people in Leeds with mental health difficulties (priceless!)\n\nScroll down to buy your place today! Leeds Half Marathon 2024 – Terms and Conditions \nMark Coverley took part and had this to say about his experience: \n‘The support all around the course was amazing – absolute credit to Leeds’s wonderful people. Music playing loud from a hi-fi along Meanwood Road (Keep on running of course!)\, kids firing water pistols at the hot runners along Stonegate Road\, neighbours offering jelly beans and orange slices all around the course\, bunting up at Lawnswood with a guy on a stepladder with a hosepipe dousing the runners if they wanted\, people with wooden spoons and saucepans making a heck of a racket to cheer people on… just the most fantastic\, fun support!’ \n  \nYou can also donate to this event – https://www.justgiving.com/campaign/lmleedsmarathon24
URL:https://www.leedsmind.org.uk/event/leeds-half-marathon-2024/
LOCATION:Leeds City Centre\, United Kingdom
CATEGORIES:Fundraising,Running
ATTACH;FMTTYPE=image/png:https://www.leedsmind.org.uk/wp-content/uploads/2023/07/Leeds-Half-Marathon.png
END:VEVENT
BEGIN:VEVENT
DTSTART;VALUE=DATE:20230910
DTEND;VALUE=DATE:20230911
DTSTAMP:20260423T132454
CREATED:20221128T111113Z
LAST-MODIFIED:20230316T153703Z
UID:12133-1694304000-1694390399@www.leedsmind.org.uk
SUMMARY:Great North Run 2023
DESCRIPTION:One of the most iconic runs in the country\, run from the city to the sea – and maybe finish off with some Fish and Chips in South Shields. \nLeeds Mind are proud to have secured some charity places this year. Will you run for us? Get in fast as places are very limited! \nCharity Places are £60 and with a suggested a sponsorship target of £350. \nIn return for joining Team Leeds Mind you will receive; \n\nYour place in the race!\nComplimentary running top\nFundraising support before\, during and after the race\nThe wonderful feeling that you are helping to support people in Leeds with mental health difficulties (priceless!)\n\nScroll down to get your place today! Charity Running Place (Leeds Mind) T&C’s Great North Run 2023 \nDonate to this campaign or sponsor runner here – https://www.justgiving.com/campaign/GreatNorthRunLM23 \n   
URL:https://www.leedsmind.org.uk/event/great-north-run-2023/
LOCATION:Newcastle
CATEGORIES:Fundraising,Running
ATTACH;FMTTYPE=image/png:https://www.leedsmind.org.uk/wp-content/uploads/2022/04/Great-North-Run-blue.png
END:VEVENT
BEGIN:VEVENT
DTSTART;VALUE=DATE:20230618
DTEND;VALUE=DATE:20230619
DTSTAMP:20260423T132454
CREATED:20221114T103227Z
LAST-MODIFIED:20230612T094939Z
UID:12004-1687046400-1687132799@www.leedsmind.org.uk
SUMMARY:Leeds 10K 2023
DESCRIPTION:Pound the streets of Leeds\, running\, jogging\, wheeling or walking. Do it for fun\, as part of a fitness goal or to smash that elusive PB – all while raising money for mental health services in your community! Run for Team Leeds Mind under our united banner of inclusivity 💙 \nA Leeds Mind Charity place is just £25 with a suggested sponsorship target of £150 to help keep our vital services going – ask your friends\, family and colleagues to sponsor you! \nIn return for joining Team Leeds Mind you will receive; \n\nYour place in the race!\nComplimentary running top\nFundraising support before\, during and after the race\nThe wonderful feeling that you are helping to support people in Leeds with mental health difficulties (priceless!)\n\nScroll down to buy your place today! Leeds 10k 2023 – Terms and Conditions \nYou can also register to be a Leeds Mind Volunteer Route Marshall below\, helping to cheer on the runners and keep the route safe! \nYou can donate to this cause via https://www.justgiving.com/campaign/leeds10K2023 \n  
URL:https://www.leedsmind.org.uk/event/leeds-10k-2023/
LOCATION:Leeds City Centre\, United Kingdom
CATEGORIES:Fundraising,Running
ATTACH;FMTTYPE=image/jpeg:https://www.leedsmind.org.uk/wp-content/uploads/2020/11/logo-2.jpg
END:VEVENT
BEGIN:VEVENT
DTSTART;VALUE=DATE:20230609
DTEND;VALUE=DATE:20230612
DTSTAMP:20260423T132454
CREATED:20221128T121935Z
LAST-MODIFIED:20230202T153639Z
UID:12156-1686268800-1686527999@www.leedsmind.org.uk
SUMMARY:Great North Swim 2023
DESCRIPTION:If swimming is your thing\, why not make it WILD and conquer Lake Windermere in the Great North Swim this year? \nA 1 mile swim in the most picturesque landscape – there’s nothing like the view of mountains from water level! Why not jump into nature and join us? \nCharity Places are just £40 with a suggested a sponsorship target of £200. \nIn return for joining Team Leeds Mind you will receive; \n\nYour place in the race!\nComplimentary top\nFundraising support before\, during and after the race\nThe wonderful feeling that you are helping to support people in Leeds with mental health difficulties (priceless!)\n\nScroll down to get your place today! Leeds Mind T&C’s Great North Swim 2023 \nYou can donate to this campaign or sponsor swimmers here – https://www.justgiving.com/campaign/GreatNorthSwim2023
URL:https://www.leedsmind.org.uk/event/great-north-swim-2023/
LOCATION:Lake Windermere\, Lake Windermere
CATEGORIES:Fundraising,Running
ATTACH;FMTTYPE=image/jpeg:https://www.leedsmind.org.uk/wp-content/uploads/2022/11/1655244761104.jpg
END:VEVENT
BEGIN:VEVENT
DTSTART;VALUE=DATE:20230514
DTEND;VALUE=DATE:20230515
DTSTAMP:20260423T132454
CREATED:20221115T143247Z
LAST-MODIFIED:20221123T160357Z
UID:12024-1684022400-1684108799@www.leedsmind.org.uk
SUMMARY:Leeds Half Marathon 2023
DESCRIPTION:Complete Yorkshire’s biggest and loudest half marathon and get cheered on every step of the way! \nA Leeds Mind Charity place is just £30 with a suggested sponsorship target of £250 – ask your friends\, family and colleagues to sponsor your amazing achievement and help us to keep our vital services going for the community! \nIn return for joining Team Leeds Mind you will receive; \n\nYour place in the race!\nComplimentary running top\nFundraising support before\, during and after the race\nThe wonderful feeling that you are helping to support people in Leeds with mental health difficulties (priceless!)\n\nScroll down to buy your place today! Leeds Half Marathon 2023 – Terms and Conditions \nMark Coverley took part last year and had this to say about his experience: \n‘The support all around the course was amazing – absolute credit to Leeds’s wonderful people. Music playing loud from a hi-fi along Meanwood Road (Keep on running of course!)\, kids firing water pistols at the hot runners along Stonegate Road\, neighbours offering jelly beans and orange slices all around the course\, bunting up at Lawnswood with a guy on a stepladder with a hosepipe dousing the runners if they wanted\, people with wooden spoons and saucepans making a heck of a racket to cheer people on… just the most fantastic\, fun support!’ \n  \nYou can also donate to this event here.
URL:https://www.leedsmind.org.uk/event/leeds-half-marathon-2023/
LOCATION:Leeds City Centre\, United Kingdom
CATEGORIES:Fundraising,Running
ATTACH;FMTTYPE=image/jpeg:https://www.leedsmind.org.uk/wp-content/uploads/2020/11/web-logo.jpg
END:VEVENT
BEGIN:VEVENT
DTSTART;VALUE=DATE:20221016
DTEND;VALUE=DATE:20221018
DTSTAMP:20260423T132454
CREATED:20200226T191104Z
LAST-MODIFIED:20220907T071245Z
UID:6738-1665882000-1665968399@www.leedsmind.org.uk
SUMMARY:Yorkshire Marathon - 16th October 2022
DESCRIPTION:Looking for a challenge? Well look no further… the Yorkshire Marathon has it all!! Take in iconic sights such as the York Minster\, not to mention the stunning scenery.  This is really Yorkshires finest running event and we’d love for you to join Team Leeds Mind in October 2022 \n(Circular route\, starting at finishing at the University of York\, YO10 5DD) \nEntry Fee: reduced from £40 to just £20\nSponsorship Target: raise what you can! \nRunners – In return for joining Team Leeds Mind you will be rewarded with: \n\nComplimentary running top\nFundraising support before\, during and after the race\nThe wonderful feeling that you are helping to support people in Leeds with mental health difficulties (priceless)\n\nTerms and Conditions – Yorkshire Marathon 2022
URL:https://www.leedsmind.org.uk/event/yorkshire-marathon-2022/
LOCATION:University of York
CATEGORIES:Fundraising,Running
ATTACH;FMTTYPE=image/jpeg:https://www.leedsmind.org.uk/wp-content/uploads/2020/02/Logo.jpg
END:VEVENT
BEGIN:VEVENT
DTSTART;VALUE=DATE:20220911
DTEND;VALUE=DATE:20220912
DTSTAMP:20260423T132454
CREATED:20220429T144536Z
LAST-MODIFIED:20220713T180141Z
UID:10999-1662854400-1662940799@www.leedsmind.org.uk
SUMMARY:Great North Run 2022
DESCRIPTION:One of the most iconic runs in the country\, run from the city to the sea – and maybe finish off with some Fish and Chips in South Shields. \nLeeds Mind are proud to have secured some charity places this year. Will you run for us? Get in fast as places are very limited! \nCharity Places are £50 and with a suggested a sponsorship target of £350. \nEmail us at fundraising@leedsmind.org.uk to get your place today! \n  \n   \n 
URL:https://www.leedsmind.org.uk/event/great-north-run-2022/
LOCATION:Newcastle
CATEGORIES:Fundraising,Running
ATTACH;FMTTYPE=image/png:https://www.leedsmind.org.uk/wp-content/uploads/2022/04/Great-North-Run-blue.png
END:VEVENT
BEGIN:VEVENT
DTSTART;VALUE=DATE:20220703
DTEND;VALUE=DATE:20220704
DTSTAMP:20260423T132454
CREATED:20201112T115757Z
LAST-MODIFIED:20220211T140250Z
UID:7862-1656806400-1656892799@www.leedsmind.org.uk
SUMMARY:Leeds 10k - 3rd July 2022
DESCRIPTION:Pound the streets of Leeds\, running\, jogging\, wheeling or walking. Do it for charity\, for fun\, as part of a fitness goal or to smash that elusive PB. Run for Team Leeds Mind under our united banner of inclusivity 💙 \nIf you’d like to take part and and raise money for Leeds Mind\, you can choose one of the following options; \nSign up for a Leeds Mind Charity Place\nA Leeds Mind Charity place is £20 with a suggested sponsorship target of £150. In return for joining Team Leeds Mind you will receive; \n\nComplimentary running top\nFundraising support before\, during and after the race\nThe wonderful feeling that you are helping to support people in Leeds with mental health difficulties (priceless!)\n\nTo register for a Leeds Mind Charity place please contact  fundraising@leedsmind.org.uk \nPlaces are limited\, so don’t delay…sign up today! \nSign up and pay for an event place directly (no fundraising target)\nIf you already have a place in the Leeds 10k or would like to buy your own place you can you can also sign up directly with Run For All here and Simply select ‘Leeds Mind’ when prompted to choose a charity.  You can then set up a JustGiving Page and fundraise for Leeds Mind by visiting  www.justgiving.com/leedsmind. \nEach of our fundraisers will receive a Leeds Mind Running vest or T-shirt. \nPaper sponsor forms are also available by emailing: fundraising@leedsmind.org.uk \n 
URL:https://www.leedsmind.org.uk/event/leeds-10k-2022/
LOCATION:Leeds City Centre\, United Kingdom
CATEGORIES:Fundraising,Running
ATTACH;FMTTYPE=image/jpeg:https://www.leedsmind.org.uk/wp-content/uploads/2020/11/logo-2.jpg
END:VEVENT
BEGIN:VEVENT
DTSTART;VALUE=DATE:20220508
DTEND;VALUE=DATE:20220509
DTSTAMP:20260423T132454
CREATED:20201112T103906Z
LAST-MODIFIED:20220211T140321Z
UID:7849-1651968000-1652054399@www.leedsmind.org.uk
SUMMARY:Leeds Half Marathon - 8th May 2022
DESCRIPTION:Complete Yorkshire’s biggest and loudest half marathon. Be prepared\, ’cause this one is hilly! \nCharity Place  \nA Leeds Mind Charity place is £30 with a suggested sponsorship target of £250. In return for joining Team Leeds Mind you will receive; \n\nA complimentary Leeds Mind running top\nFundraising support before\, during and after the race\nThe wonderful feeling that you are helping to support people in Leeds with mental health difficulties (priceless!)\n\nTo register for your free Leeds Mind Charity place\, please contact: fundraising@leedsmind.org.uk \nPlaces are limited\,  so don’t delay…sign up today! \nIf you already have a place in the Half Marathon or would like to buy your own place you can you can also sign up directly with Run For All here.\nYou can then set up a JustGiving Page and fundraiser for Leeds Mind by visiting  www.justgiving.com/leedsmind. \nPaper sponsor forms are also available by emailing: fundraising@leedsmind.org.uk
URL:https://www.leedsmind.org.uk/event/leeds-half-marathon-2022/
LOCATION:Leeds City Centre\, United Kingdom
CATEGORIES:Fundraising,Running
ATTACH;FMTTYPE=image/jpeg:https://www.leedsmind.org.uk/wp-content/uploads/2020/11/web-logo.jpg
END:VEVENT
END:VCALENDAR