BEGIN:VCALENDAR
VERSION:2.0
PRODID:-//Leeds Mind - ECPv6.15.13.1//NONSGML v1.0//EN
CALSCALE:GREGORIAN
METHOD:PUBLISH
X-WR-CALNAME:Leeds Mind
X-ORIGINAL-URL:https://www.leedsmind.org.uk
X-WR-CALDESC:Events for Leeds Mind
REFRESH-INTERVAL;VALUE=DURATION:PT1H
X-Robots-Tag:noindex
X-PUBLISHED-TTL:PT1H
BEGIN:VTIMEZONE
TZID:Europe/London
BEGIN:DAYLIGHT
TZOFFSETFROM:+0000
TZOFFSETTO:+0100
TZNAME:BST
DTSTART:20250330T010000
END:DAYLIGHT
BEGIN:STANDARD
TZOFFSETFROM:+0100
TZOFFSETTO:+0000
TZNAME:GMT
DTSTART:20251026T010000
END:STANDARD
BEGIN:DAYLIGHT
TZOFFSETFROM:+0000
TZOFFSETTO:+0100
TZNAME:BST
DTSTART:20260329T010000
END:DAYLIGHT
BEGIN:STANDARD
TZOFFSETFROM:+0100
TZOFFSETTO:+0000
TZNAME:GMT
DTSTART:20261025T010000
END:STANDARD
BEGIN:DAYLIGHT
TZOFFSETFROM:+0000
TZOFFSETTO:+0100
TZNAME:BST
DTSTART:20270328T010000
END:DAYLIGHT
BEGIN:STANDARD
TZOFFSETFROM:+0100
TZOFFSETTO:+0000
TZNAME:GMT
DTSTART:20271031T010000
END:STANDARD
END:VTIMEZONE
BEGIN:VEVENT
DTSTART;VALUE=DATE:20260627
DTEND;VALUE=DATE:20260629
DTSTAMP:20260424T100402
CREATED:20250625T083308Z
LAST-MODIFIED:20260120T194407Z
UID:18629-1782518400-1782691199@www.leedsmind.org.uk
SUMMARY:Total Warrior 2026
DESCRIPTION:Choose to tackle the Ultra Warrior\, 12k\, 6K or Junior 6K or Junior 3K challenge – we’ve got a course for all abilities! Packed with obstacles like the ‘The Plunge’ and ‘The Shocker’\, it’s sure to be a day to remember. Grab your team and secure your places now! \nBook Now\nCharity place available for Saturday 27th & Sunday 28th June\, various wave times \nWarriors – In return for joining Team Leeds Mind at this amazing event \n\nComplimentary running top\nFundraising support before\, during and after the race\nThe wonderful feeling that you are helping to support people in Leeds with mental health difficulties (priceless)\n\nSponsorship Target: £150 \nScroll down to buy your tickets! Total Warrior 2026 – Terms and Conditions \nYou can donate to the campaign or sponsor warriors here – https://www.justgiving.com/campaign/twlm26 \n\n		\n		\n			\n				\n			\n			\n				\n			\n			\n				\n			\n			\n				\n			\n			\n				\n			\n			\n				\n			\n			\n				\n			\n			\n				\n			\n			\n				\n			\n			\n				\n			\n			\n				\n			\n			\n				\n			\n			\n				\n			\n			\n				\n			\n			\n				\n			\n			\n				\n			\n			\n				\n			\n			\n				\n			\n		\n\n\nTickets
URL:https://www.leedsmind.org.uk/event/total-warrior-2026/
LOCATION:Bramham Park\, South Approach Road\, Wetherby\, West Yorkshire\, LS23 6ND\, United Kingdom
CATEGORIES:Fundraising
ATTACH;FMTTYPE=image/jpeg:https://www.leedsmind.org.uk/wp-content/uploads/2020/11/LOGO-1.jpg
END:VEVENT
END:VCALENDAR