BEGIN:VCALENDAR
VERSION:2.0
PRODID:-//Leeds Mind - ECPv6.15.13.1//NONSGML v1.0//EN
CALSCALE:GREGORIAN
METHOD:PUBLISH
X-WR-CALNAME:Leeds Mind
X-ORIGINAL-URL:https://www.leedsmind.org.uk
X-WR-CALDESC:Events for Leeds Mind
REFRESH-INTERVAL;VALUE=DURATION:PT1H
X-Robots-Tag:noindex
X-PUBLISHED-TTL:PT1H
BEGIN:VTIMEZONE
TZID:Europe/London
BEGIN:DAYLIGHT
TZOFFSETFROM:+0000
TZOFFSETTO:+0100
TZNAME:BST
DTSTART:20230326T010000
END:DAYLIGHT
BEGIN:STANDARD
TZOFFSETFROM:+0100
TZOFFSETTO:+0000
TZNAME:GMT
DTSTART:20231029T010000
END:STANDARD
BEGIN:DAYLIGHT
TZOFFSETFROM:+0000
TZOFFSETTO:+0100
TZNAME:BST
DTSTART:20240331T010000
END:DAYLIGHT
BEGIN:STANDARD
TZOFFSETFROM:+0100
TZOFFSETTO:+0000
TZNAME:GMT
DTSTART:20241027T010000
END:STANDARD
BEGIN:DAYLIGHT
TZOFFSETFROM:+0000
TZOFFSETTO:+0100
TZNAME:BST
DTSTART:20250330T010000
END:DAYLIGHT
BEGIN:STANDARD
TZOFFSETFROM:+0100
TZOFFSETTO:+0000
TZNAME:GMT
DTSTART:20251026T010000
END:STANDARD
END:VTIMEZONE
BEGIN:VEVENT
DTSTART;TZID=Europe/London:20240714T100000
DTEND;TZID=Europe/London:20240714T140000
DTSTAMP:20260423T070348
CREATED:20221123T103822Z
LAST-MODIFIED:20240620T121128Z
UID:12069-1720951200-1720965600@www.leedsmind.org.uk
SUMMARY:Supercars and Coffee 2024
DESCRIPTION:Amazing cars\, great coffee and brilliant company? Sounds like a great way to spend a Sunday! \nSupercars and Coffee is an incredible event for all the family\, so why not get the tribe together and come on down to be wowed by these breath-taking motors? You can find out more about the event\, by visiting the Supercars and Coffee website  \nEntry: Free – Donations to Leeds Mind are appreciated  \nYou can also donate to the event here. \n    
URL:https://www.leedsmind.org.uk/event/supercars-and-coffee-2024/
LOCATION:Appollo Capital\, The Lenz\, Hornbeam Park\, Harrogate\, HG2 8RE\, United Kingdom
CATEGORIES:Fundraising
ATTACH;FMTTYPE=image/jpeg:https://www.leedsmind.org.uk/wp-content/uploads/2022/11/image-2.jpg
END:VEVENT
END:VCALENDAR